BEGIN:VCALENDAR
VERSION:2.0
PRODID:-//White Rock Lake Foundation - ECPv6.15.18//NONSGML v1.0//EN
CALSCALE:GREGORIAN
METHOD:PUBLISH
X-ORIGINAL-URL:https://whiterocklakefoundation.org
X-WR-CALDESC:Events for White Rock Lake Foundation
REFRESH-INTERVAL;VALUE=DURATION:PT1H
X-Robots-Tag:noindex
X-PUBLISHED-TTL:PT1H
BEGIN:VTIMEZONE
TZID:America/Chicago
BEGIN:DAYLIGHT
TZOFFSETFROM:-0600
TZOFFSETTO:-0500
TZNAME:CDT
DTSTART:20250309T080000
END:DAYLIGHT
BEGIN:STANDARD
TZOFFSETFROM:-0500
TZOFFSETTO:-0600
TZNAME:CST
DTSTART:20251102T070000
END:STANDARD
BEGIN:DAYLIGHT
TZOFFSETFROM:-0600
TZOFFSETTO:-0500
TZNAME:CDT
DTSTART:20260308T080000
END:DAYLIGHT
BEGIN:STANDARD
TZOFFSETFROM:-0500
TZOFFSETTO:-0600
TZNAME:CST
DTSTART:20261101T070000
END:STANDARD
BEGIN:DAYLIGHT
TZOFFSETFROM:-0600
TZOFFSETTO:-0500
TZNAME:CDT
DTSTART:20270314T080000
END:DAYLIGHT
BEGIN:STANDARD
TZOFFSETFROM:-0500
TZOFFSETTO:-0600
TZNAME:CST
DTSTART:20271107T070000
END:STANDARD
END:VTIMEZONE
BEGIN:VEVENT
DTSTART;TZID=America/Chicago:20260430T110000
DTEND;TZID=America/Chicago:20260430T173000
DTSTAMP:20260420T014448
CREATED:20260117T000031Z
LAST-MODIFIED:20260326T140110Z
UID:2512-1777546800-1777570200@whiterocklakefoundation.org
SUMMARY:White Rock Lake Foundation Nineteenth Annual Golf Tournament
DESCRIPTION:Join us for a day on the green in support of one of Dallas’ most treasured natural spaces. The White Rock Lake Foundation invites you to our 19th Annual Golf Tournament\, where community\, conservation\, and a love for the outdoors come together. \nThis exciting event offers golfers of all skill levels the chance to enjoy a great round of golf while making a meaningful impact. Proceeds directly support ongoing improvements at White Rock Lake—from trail enhancements and park beautification to wildlife protection and future capital projects. \nOver the past 35+ years\, the Foundation has played a vital role in shaping the lake into the urban sanctuary it is today. With your participation\, we can continue that legacy for generations to come.\n		\n					\n						\n					\n			\n						\n				\n									\n					\n						\n						\n							\n									Sponsorship Form\n					\n					\n				\n								\n				\n				\n				\n									\n					\n						\n						\n							\n									PDF Sponsorship Form
URL:https://whiterocklakefoundation.org/event/white-rock-lake-foundation-nineteenth-annual-golf-tournament/
LOCATION:Stevens Park Golf Course\, 1005 N Montclair Ave\, Dallas\, TX\, 75208\, United States
ATTACH;FMTTYPE=image/jpeg:https://whiterocklakefoundation.org/wp-content/uploads/2026/01/WRLF-APRIL-30-2026-COVER.jpg
ORGANIZER;CN="White Rock Lake Foundation":MAILTO:info@whiterocklakefoundation.org
END:VEVENT
BEGIN:VEVENT
DTSTART;TZID=America/Chicago:20261105T180000
DTEND;TZID=America/Chicago:20261105T220000
DTSTAMP:20260420T014448
CREATED:20260117T000212Z
LAST-MODIFIED:20260117T140313Z
UID:2514-1793901600-1793916000@whiterocklakefoundation.org
SUMMARY:The Jewel of Dallas Gala
DESCRIPTION:
URL:https://whiterocklakefoundation.org/event/the-jewel-of-dallas-gala/
LOCATION:Hall of State  in Dallas Fair Park\, 3939 Grand Ave\, Dallas\, TX\, 75210\, United States
ORGANIZER;CN="White Rock Lake Foundation":MAILTO:info@whiterocklakefoundation.org
END:VEVENT
END:VCALENDAR