BEGIN:VCALENDAR
VERSION:2.0
PRODID:-//White Rock Lake Foundation - ECPv6.15.18//NONSGML v1.0//EN
CALSCALE:GREGORIAN
METHOD:PUBLISH
X-WR-CALNAME:White Rock Lake Foundation
X-ORIGINAL-URL:https://whiterocklakefoundation.org
X-WR-CALDESC:Events for White Rock Lake Foundation
REFRESH-INTERVAL;VALUE=DURATION:PT1H
X-Robots-Tag:noindex
X-PUBLISHED-TTL:PT1H
BEGIN:VTIMEZONE
TZID:America/Chicago
BEGIN:DAYLIGHT
TZOFFSETFROM:-0600
TZOFFSETTO:-0500
TZNAME:CDT
DTSTART:20210314T080000
END:DAYLIGHT
BEGIN:STANDARD
TZOFFSETFROM:-0500
TZOFFSETTO:-0600
TZNAME:CST
DTSTART:20211107T070000
END:STANDARD
BEGIN:DAYLIGHT
TZOFFSETFROM:-0600
TZOFFSETTO:-0500
TZNAME:CDT
DTSTART:20220313T080000
END:DAYLIGHT
BEGIN:STANDARD
TZOFFSETFROM:-0500
TZOFFSETTO:-0600
TZNAME:CST
DTSTART:20221106T070000
END:STANDARD
BEGIN:DAYLIGHT
TZOFFSETFROM:-0600
TZOFFSETTO:-0500
TZNAME:CDT
DTSTART:20230312T080000
END:DAYLIGHT
BEGIN:STANDARD
TZOFFSETFROM:-0500
TZOFFSETTO:-0600
TZNAME:CST
DTSTART:20231105T070000
END:STANDARD
BEGIN:DAYLIGHT
TZOFFSETFROM:-0600
TZOFFSETTO:-0500
TZNAME:CDT
DTSTART:20240310T080000
END:DAYLIGHT
BEGIN:STANDARD
TZOFFSETFROM:-0500
TZOFFSETTO:-0600
TZNAME:CST
DTSTART:20241103T070000
END:STANDARD
BEGIN:DAYLIGHT
TZOFFSETFROM:-0600
TZOFFSETTO:-0500
TZNAME:CDT
DTSTART:20250309T080000
END:DAYLIGHT
BEGIN:STANDARD
TZOFFSETFROM:-0500
TZOFFSETTO:-0600
TZNAME:CST
DTSTART:20251102T070000
END:STANDARD
BEGIN:DAYLIGHT
TZOFFSETFROM:-0600
TZOFFSETTO:-0500
TZNAME:CDT
DTSTART:20260308T080000
END:DAYLIGHT
BEGIN:STANDARD
TZOFFSETFROM:-0500
TZOFFSETTO:-0600
TZNAME:CST
DTSTART:20261101T070000
END:STANDARD
BEGIN:DAYLIGHT
TZOFFSETFROM:-0600
TZOFFSETTO:-0500
TZNAME:CDT
DTSTART:20270314T080000
END:DAYLIGHT
BEGIN:STANDARD
TZOFFSETFROM:-0500
TZOFFSETTO:-0600
TZNAME:CST
DTSTART:20271107T070000
END:STANDARD
END:VTIMEZONE
BEGIN:VEVENT
DTSTART;TZID=America/Chicago:20260430T110000
DTEND;TZID=America/Chicago:20260430T173000
DTSTAMP:20260420T000322
CREATED:20260117T000031Z
LAST-MODIFIED:20260326T140110Z
UID:2512-1777546800-1777570200@whiterocklakefoundation.org
SUMMARY:White Rock Lake Foundation Nineteenth Annual Golf Tournament
DESCRIPTION:Join us for a day on the green in support of one of Dallas’ most treasured natural spaces. The White Rock Lake Foundation invites you to our 19th Annual Golf Tournament\, where community\, conservation\, and a love for the outdoors come together. \nThis exciting event offers golfers of all skill levels the chance to enjoy a great round of golf while making a meaningful impact. Proceeds directly support ongoing improvements at White Rock Lake—from trail enhancements and park beautification to wildlife protection and future capital projects. \nOver the past 35+ years\, the Foundation has played a vital role in shaping the lake into the urban sanctuary it is today. With your participation\, we can continue that legacy for generations to come.\n		\n					\n						\n					\n			\n						\n				\n									\n					\n						\n						\n							\n									Sponsorship Form\n					\n					\n				\n								\n				\n				\n				\n									\n					\n						\n						\n							\n									PDF Sponsorship Form
URL:https://whiterocklakefoundation.org/event/white-rock-lake-foundation-nineteenth-annual-golf-tournament/
LOCATION:Stevens Park Golf Course\, 1005 N Montclair Ave\, Dallas\, TX\, 75208\, United States
ATTACH;FMTTYPE=image/jpeg:https://whiterocklakefoundation.org/wp-content/uploads/2026/01/WRLF-APRIL-30-2026-COVER.jpg
ORGANIZER;CN="White Rock Lake Foundation":MAILTO:info@whiterocklakefoundation.org
END:VEVENT
BEGIN:VEVENT
DTSTART;TZID=America/Chicago:20251106T180000
DTEND;TZID=America/Chicago:20251106T230000
DTSTAMP:20260420T000322
CREATED:20250710T082604Z
LAST-MODIFIED:20251112T011127Z
UID:2214-1762452000-1762470000@whiterocklakefoundation.org
SUMMARY:The Jewel of Dallas Gala Presented by The White Rock Lake Foundation
DESCRIPTION:
URL:https://whiterocklakefoundation.org/event/the-jewel-of-dallas-gala-presented-by-the-white-rock-lake-foundation-3/
LOCATION:Hall of State  in Dallas Fair Park\, 3939 Grand Ave\, Dallas\, TX\, 75210\, United States
CATEGORIES:Gala
ATTACH;FMTTYPE=image/jpeg:https://whiterocklakefoundation.org/wp-content/uploads/2025/07/Gala-Nov-6-2025.jpg
ORGANIZER;CN="White Rock Lake Foundation":MAILTO:info@whiterocklakefoundation.org
END:VEVENT
BEGIN:VEVENT
DTSTART;TZID=America/Chicago:20250501T110000
DTEND;TZID=America/Chicago:20250501T173000
DTSTAMP:20260420T000322
CREATED:20250218T052338Z
LAST-MODIFIED:20250218T052642Z
UID:1984-1746097200-1746120600@whiterocklakefoundation.org
SUMMARY:White Rock Lake Foundation Eighteenth Annual Golf Tournament
DESCRIPTION:Player Signup\n					\n					\n				\n								\n				\n				\n				\n									\n					\n						\n						\n							\n									Sponsor Signup\n					\n					\n				\n								\n				\n				\n				\n									\n					\n						\n						\n							\n									Download The Registration / Sponshorship Packet\n					\n					\n				\n								\n				\n					\n		\n					\n		\n				\n						\n					\n			\n						\n				\n									\n					\n						\n									Sponsorship Form\n					\n					\n				\n								\n				\n				\n				\n									\n					\n						\n						\n							\n									Download PDF\n					\n					\n				\n								\n				\n					\n		\n					\n		\n				\n						\n					\n			\n						\n				\n									\n					\n						\n						\n							\n									Click here to see all the photos from the event
URL:https://whiterocklakefoundation.org/event/white-rock-lake-foundation-eighteenth-annual-golf-tournament/
LOCATION:Stevens Park Golf Course\, 1005 N Montclair Ave\, Dallas\, TX\, 75208\, United States
ATTACH;FMTTYPE=image/jpeg:https://whiterocklakefoundation.org/wp-content/uploads/2025/02/eighteenth-annual.jpg
ORGANIZER;CN="White Rock Lake Foundation":MAILTO:info@whiterocklakefoundation.org
END:VEVENT
BEGIN:VEVENT
DTSTART;TZID=America/Chicago:20241114T180000
DTEND;TZID=America/Chicago:20241114T220000
DTSTAMP:20260420T000322
CREATED:20230301T203342Z
LAST-MODIFIED:20240923T221858Z
UID:424-1731607200-1731621600@whiterocklakefoundation.org
SUMMARY:The Jewel of Dallas Gala Presented by The White Rock Lake Foundation
DESCRIPTION:For more information contact info@whiterocklakefoundation.org\n\nor call Susan Falvo at 214.725.9300\n\n \n\n		\n					\n						\n					\n			\n						\n				\n									\n					\n						\n						\n							\n									Player Signup\n					\n					\n				\n								\n				\n				\n				\n									\n					\n						\n						\n							\n									Reserve a Table or Ticket\n					\n					\n				\n								\n				\n				\n				\n									\n					\n						\n						\n							\n									Sponsor Signup\n					\n					\n				\n								\n				\n				\n				\n									\n					\n						\n						\n							\n									Download The Registration / Sponsorship Packet
URL:https://whiterocklakefoundation.org/event/the-jewel-of-dallas-gala-presented-by-the-white-rock-lake-foundation/
LOCATION:Hall of State  in Dallas Fair Park\, 3939 Grand Ave\, Dallas\, TX\, 75210\, United States
CATEGORIES:Gala
ATTACH;FMTTYPE=image/png:https://whiterocklakefoundation.org/wp-content/uploads/2023/03/gala.png
ORGANIZER;CN="White Rock Lake Foundation":MAILTO:info@whiterocklakefoundation.org
END:VEVENT
BEGIN:VEVENT
DTSTART;TZID=America/Chicago:20240926T110000
DTEND;TZID=America/Chicago:20240926T173000
DTSTAMP:20260420T000322
CREATED:20240320T192116Z
LAST-MODIFIED:20240627T003635Z
UID:1371-1727348400-1727371800@whiterocklakefoundation.org
SUMMARY:White Rock Lake Foundation Seventeenth Annual Golf Tournament
DESCRIPTION:Player Signup\n					\n					\n				\n								\n				\n				\n				\n									\n					\n						\n						\n							\n									Sponsor Signup\n					\n					\n				\n								\n				\n				\n				\n									\n					\n						\n						\n							\n									Download The Registration / Sponshorship Packet
URL:https://whiterocklakefoundation.org/event/white-rock-lake-foundation-seventeenth-annual-golf-tournament/
LOCATION:Stevens Park Golf Course\, 1005 N Montclair Ave\, Dallas\, TX\, 75208\, United States
ATTACH;FMTTYPE=image/png:https://whiterocklakefoundation.org/wp-content/uploads/2024/03/Golf-Tournament-2024.png
ORGANIZER;CN="White Rock Lake Foundation":MAILTO:info@whiterocklakefoundation.org
END:VEVENT
BEGIN:VEVENT
DTSTART;TZID=America/Chicago:20240411T180000
DTEND;TZID=America/Chicago:20240411T200000
DTSTAMP:20260420T000322
CREATED:20240318T070108Z
LAST-MODIFIED:20240318T070635Z
UID:1363-1712858400-1712865600@whiterocklakefoundation.org
SUMMARY:Appreciation Event
DESCRIPTION:Thank you for your continued support! \n\nPlease attend our Appreciation Event \n\nThursday\, April 11th from 6-8 pm at Lakewood Country Club \n\n1912 Abrams Road (intersection of Abrams and Gaston) \n\nPlease rsvp to: info@whiterocklakefoundation.org \n\nOr susan.falvo.sf@gmail.com \n\nCall 214.725.9300 with any questions – thank You!
URL:https://whiterocklakefoundation.org/event/appreciation-event/
LOCATION:TX
ORGANIZER;CN="White Rock Lake Foundation":MAILTO:info@whiterocklakefoundation.org
END:VEVENT
BEGIN:VEVENT
DTSTART;TZID=America/Chicago:20231109T180000
DTEND;TZID=America/Chicago:20231109T220000
DTSTAMP:20260420T000322
CREATED:20230908T142008Z
LAST-MODIFIED:20231214T174446Z
UID:963-1699552800-1699567200@whiterocklakefoundation.org
SUMMARY:White Rock Lake Foundation Celebrates Success of Jewel of Dallas Gala
DESCRIPTION:White Rock Lake Foundation Celebrates Success of Jewel of Dallas Gala				\n				\n				\n				\n									Proceeds to help fund ongoing improvements at Winfrey Point DALLAS\, Texas (November 15\, 2023) — The White Rock Lake Foundation announced that it has raised an additional $100\,000 for the ongoing restoration of Winfrey Point. More than 200 people attended the foundation’s second annual Jewel of Dallas Gala on November 9 at the Granada Theater Dallas.to help raise money for the project. “It was great to gather together so many people who love White Rock Lake\,” foundation President Kathleen Foley said. “We appreciate everyone who was willing to invest in our stewardship of the lake.” The gala\, presented by the Celanese Foundation\, relied on ticket sales\, auctions and direction donations to help raise money for the White Rock Lake Foundation and its stewardship of the lake\, known as the “Jewel of Dallas.” Guests at the gala enjoyed an exclusive menu prepared by some of the city’s top chefs\, with live music by Ricki Derek and his 15-piece Big Band. City officials who attended the gala praised the White Rock Lake Foundation for its efforts to promote and preserve White Rock Lake Park. “Without you all\, we wouldn’t be able to do the things that we do out at the lake\,” said John Jenkins\, director of Dallas Park and Recreation Department\, addressing the crowd at the gala. “Without you\, we wouldn’t have the trail markers out there. We wouldn’t have the roof at Winfrey Point. We wouldn’t have the baseball fields.” Dallas City Council Member Paula Blackmon said the foundation does more than just raise money for projects at White Rock Lake. She praised the group for its volunteer efforts as well. Since its inception more than 30 years ago\, the White Rock Lake Foundation has raised millions of dollars and invested countless hours of volunteer time in support of White Rock Lake. “This gala is one of our largest fundraisers each year\,” said Susan Falvo\, the foundation’s fundraising and event chair. “We count on our community’s generosity to help us achieve the foundation’s goal of maintaining and improving White Rock Lake\, especially the generous sponsors who helped us stage this amazing event.” All proceeds from the Jewel of Dallas Gala will go toward the Winfrey Point restoration. The foundation already has contributed more than $150\,000 for the Winfrey Point restoration project\, with a goal of raising an additional $200\,000 to complete the improvements at the historic event venue. SPONSORS Presenting sponsor: Celanese FoundationEntertainment sponsor:  ASI GymnasticsBar sponsor: Southern Glazer’s (SWSG)Media sponsor: Advocate MagazinesTree planting sponsor: Oncor Step and repeat sponsor: Dallas Running ClubCup and napkin sponsor: Session PilatesPhoto booth sponsor: Urban StructurePaddle raise sponsors: Jenny Capritta and Parsons Realty TeamValet sponsor: Involved!Restaurant/chef sponsors: Mill Creek Residential Trust\, Shop Cos\, Title Partners\, Bank of Texas\, Modera Trailhead\, Kim Reynolds and Maria Ganson For more information\, visit the White Rock Lake Foundation website (whiterocklakefoundation.org) or contact Susan Falvo at susan.falvo.sf@gmail.com or 214-725-9300. ABOUT THE WHITE ROCK LAKE FOUNDATION: The mission of the White Rock Lake Foundation\, established in 1989\, is to bring together and maximize the resources of the entire community into a coordinated effort for the benefit of White Rock Lake Park. The foundation works with the Dallas Park and Recreation Department and the City of Dallas to help implement the master plan for White Rock Lake. 								\n				\n					\n		\n					\n		\n				\n						\n					\n			\n						\n						\n					\n			\n						\n				\n																														\n				\n				\n				\n									The Jewel of Dallas Gala will be held on Thursday\, November 9\, 2023 at the Granada Theater Dallas\, 3524 Greenville Avenue\, Dallas\, TX 75206 from 7-10 pm (VIP reception will be from 6-7 pm). Valet parking will be available. An exciting line up of best-in-class chefs from East Dallas led by Culinary Chair\, Peja Krstic of Mot Hai Ba\, music by Ricki Derek and his 15 piece Big Band; Live and Silent Auction\, and more! 								\n				\n					\n		\n				\n			\n						\n				\n									$250 VIP ticket: Invitation to VIP Reception from 6-7pm; Featured on sponsor display throughout the Gala; special VIP gift. $150 General Admission ticket: Admission to the Gala from 7-10 pm. Music\, fabulous food\, auctions\, raffles – join us 								\n				\n				\n				\n					\n\n  Tickets and Sponsorship Info\n				\n				\n				\n				\n																\n															\n															\n				\n				\n				\n					\n Sponsorship Form\n\n Sponsor Packet\n\n Live and Silent Auction Form\n				\n				\n				\n				\n									\n					\n						\n						\n							\n									Click here\n					\n					\n				\n								\n				\n					\n		\n					\n		\n					\n		\n					\n		\n				\n						\n					\n			\n						\n				\n					This  Year's Sponsors				\n				\n					\n		\n					\n		\n				\n						\n					\n			\n						\n				\n																														\n				\n				\n				\n					Title Sponsor				\n				\n					\n		\n					\n		\n				\n						\n					\n			\n						\n				\n																														\n				\n				\n				\n					Media Sponsor				\n				\n					\n		\n				\n			\n						\n				\n																														\n				\n				\n				\n					Cup and Napkin Sponsor				\n				\n					\n		\n				\n			\n						\n				\n																														\n				\n				\n				\n					Valet Sponsor				\n				\n					\n		\n					\n		\n				\n						\n					\n			\n						\n				\n																														\n				\n				\n				\n					Tree Planting Sponsor				\n				\n					\n		\n				\n			\n						\n				\n																														\n				\n				\n				\n					Photo Booth Sponsor				\n				\n					\n		\n				\n			\n						\n				\n																														\n				\n				\n				\n					Paddle Raise Sponsor				\n				\n					\n		\n					\n		\n				\n						\n					\n			\n							\n		\n				\n			\n						\n				\n																														\n				\n				\n				\n					Entertainment Sponsor
URL:https://whiterocklakefoundation.org/event/the-jewel-of-dallas-gala-presented-by-the-white-rock-lake-foundation-2/
LOCATION:Granada Theater\, 3524 Greenville Ave\, Dallas\, TX\, 75206\, United States
CATEGORIES:Gala
ORGANIZER;CN="White Rock Lake Foundation":MAILTO:info@whiterocklakefoundation.org
END:VEVENT
BEGIN:VEVENT
DTSTART;TZID=America/Chicago:20230518T110000
DTEND;TZID=America/Chicago:20230518T173000
DTSTAMP:20260420T000322
CREATED:20230301T202747Z
LAST-MODIFIED:20230623T172043Z
UID:417-1684407600-1684431000@whiterocklakefoundation.org
SUMMARY:White Rock Lake Foundation Sixteenth Annual Golf Tournament
DESCRIPTION:Thank you everyone for making the White Rock Lake Foundation Sixteenth Annual Golf Tournament a success!
URL:https://whiterocklakefoundation.org/event/white-rock-lake-foundation-sixteenth-annual-golf-tournament/
LOCATION:Stevens Park Golf Course\, 1005 N Montclair Ave\, Dallas\, TX\, 75208\, United States
CATEGORIES:Golf
ATTACH;FMTTYPE=image/jpeg:https://whiterocklakefoundation.org/wp-content/uploads/2023/03/2023-golf-graphic.jpg
ORGANIZER;CN="White Rock Lake Foundation":MAILTO:info@whiterocklakefoundation.org
END:VEVENT
BEGIN:VEVENT
DTSTART;VALUE=DATE:20220609
DTEND;VALUE=DATE:20220610
DTSTAMP:20260420T000322
CREATED:20230301T204602Z
LAST-MODIFIED:20230301T204602Z
UID:430-1654732800-1654819199@whiterocklakefoundation.org
SUMMARY:White Rock Lake Foundation Fifteenth Annual Golf Tournament
DESCRIPTION:
URL:https://whiterocklakefoundation.org/event/white-rock-lake-foundation-fifteenth-annual-golf-tournament/
LOCATION:Stevens Park Golf Course\, 1005 N Montclair Ave\, Dallas\, TX\, 75208\, United States
ATTACH;FMTTYPE=image/jpeg:https://whiterocklakefoundation.org/wp-content/uploads/2022/09/GolfTournament-event-cover.jpg
ORGANIZER;CN="White Rock Lake Foundation":MAILTO:info@whiterocklakefoundation.org
END:VEVENT
END:VCALENDAR