BEGIN:VCALENDAR
VERSION:2.0
PRODID:-//White Rock Lake Foundation - ECPv6.15.18//NONSGML v1.0//EN
CALSCALE:GREGORIAN
METHOD:PUBLISH
X-WR-CALNAME:White Rock Lake Foundation
X-ORIGINAL-URL:https://whiterocklakefoundation.org
X-WR-CALDESC:Events for White Rock Lake Foundation
REFRESH-INTERVAL;VALUE=DURATION:PT1H
X-Robots-Tag:noindex
X-PUBLISHED-TTL:PT1H
BEGIN:VTIMEZONE
TZID:America/Chicago
BEGIN:DAYLIGHT
TZOFFSETFROM:-0600
TZOFFSETTO:-0500
TZNAME:CDT
DTSTART:20230312T080000
END:DAYLIGHT
BEGIN:STANDARD
TZOFFSETFROM:-0500
TZOFFSETTO:-0600
TZNAME:CST
DTSTART:20231105T070000
END:STANDARD
BEGIN:DAYLIGHT
TZOFFSETFROM:-0600
TZOFFSETTO:-0500
TZNAME:CDT
DTSTART:20240310T080000
END:DAYLIGHT
BEGIN:STANDARD
TZOFFSETFROM:-0500
TZOFFSETTO:-0600
TZNAME:CST
DTSTART:20241103T070000
END:STANDARD
BEGIN:DAYLIGHT
TZOFFSETFROM:-0600
TZOFFSETTO:-0500
TZNAME:CDT
DTSTART:20250309T080000
END:DAYLIGHT
BEGIN:STANDARD
TZOFFSETFROM:-0500
TZOFFSETTO:-0600
TZNAME:CST
DTSTART:20251102T070000
END:STANDARD
END:VTIMEZONE
BEGIN:VEVENT
DTSTART;TZID=America/Chicago:20240926T110000
DTEND;TZID=America/Chicago:20240926T173000
DTSTAMP:20260420T072834
CREATED:20240320T192116Z
LAST-MODIFIED:20240627T003635Z
UID:1371-1727348400-1727371800@whiterocklakefoundation.org
SUMMARY:White Rock Lake Foundation Seventeenth Annual Golf Tournament
DESCRIPTION:Player Signup\n					\n					\n				\n								\n				\n				\n				\n									\n					\n						\n						\n							\n									Sponsor Signup\n					\n					\n				\n								\n				\n				\n				\n									\n					\n						\n						\n							\n									Download The Registration / Sponshorship Packet
URL:https://whiterocklakefoundation.org/event/white-rock-lake-foundation-seventeenth-annual-golf-tournament/
LOCATION:Stevens Park Golf Course\, 1005 N Montclair Ave\, Dallas\, TX\, 75208\, United States
ATTACH;FMTTYPE=image/png:https://whiterocklakefoundation.org/wp-content/uploads/2024/03/Golf-Tournament-2024.png
ORGANIZER;CN="White Rock Lake Foundation":MAILTO:info@whiterocklakefoundation.org
END:VEVENT
END:VCALENDAR